BEGIN:VCALENDAR
VERSION:2.0
PRODID:-//wp-events-plugin.com//7.2.3.1//EN
TZID:Europe/Paris
X-WR-TIMEZONE:Europe/Paris
BEGIN:VEVENT
UID:49@chateauneuf.bourgognefranchecomte.eu
DTSTART;TZID=Europe/Paris;VALUE=DATE:20260406
DTEND;TZID=Europe/Paris;VALUE=DATE:20260504
DTSTAMP:20260423T134536Z
URL:https://chateauneuf.bourgognefranchecomte.eu/events/du-6-avril-au-3-ma
 i-2026-decorations-de-printemps/
SUMMARY:Du 6 avril au 3 mai 2026 - Décorations de printemps
DESCRIPTION:[et_pb_section fb_built="1" _builder_version="4.27.6" _module_p
 reset="default" custom_margin="0px||||false|false" custom_padding="0px||||
 false|false" locked="off" global_colors_info="{}"][et_pb_row admin_label="
 row" _builder_version="4.27.6" background_size="initial" background_positi
 on="top_left" background_repeat="repeat" global_colors_info="{}"][et_pb_co
 lumn type="4_4" _builder_version="4.16" custom_padding="|||" global_colors
 _info="{}" custom_padding__hover="|||"][et_pb_text admin_label="Text" _bui
 lder_version="4.27.6" background_size="initial" background_position="top_l
 eft" background_repeat="repeat" global_colors_info="{}"]Décorations de pr
 intemps\nDu 6 avril au 3 mai 2026\, les décorations de printemps décoren
 t le château de Châteauneuf.\nSur le thème de Pâques\, des œufs et de
 s fleurs\, plusieurs scènes illustrent le printemps dans la cour\, les ja
 rdins et les salles du château.[/et_pb_text][/et_pb_column][/et_pb_row][e
 t_pb_row _builder_version="4.27.6" _module_preset="default" global_colors_
 info="{}"][et_pb_column type="4_4" _builder_version="4.27.6" _module_prese
 t="default" global_colors_info="{}"][et_pb_image src="https://chateauneuf.
 bourgognefranchecomte.eu/wp-content/uploads/2025/11/arbre-a-oeufs-scaled.j
 pg" alt="Arbres à œufs dans la grande salle du château" title_text="arb
 re à oeufs" _builder_version="4.27.6" _module_preset="default" global_col
 ors_info="{}"][/et_pb_image][/et_pb_column][/et_pb_row][et_pb_row _builder
 _version="4.27.6" _module_preset="default" locked="off" global_colors_info
 ="{}"][et_pb_column type="4_4" _builder_version="4.27.6" _module_preset="d
 efault" global_colors_info="{}"][et_pb_text _builder_version="4.27.6" _mod
 ule_preset="default" global_colors_info="{}"]Pour célébrer le printemps\
 , un plafond tendu de roses en papier et de lierre décore la salle de bai
 n du château.\nAppelé Le bain des roses\, cette installation conçue ave
 c du papier toilette et des végétaux évoque les règles d'hygiène et l
 e plaisir des sens au Moyen Âge. Elle rappelle également que l'eau de ro
 se était prestigieuse. [/et_pb_text][/et_pb_column][/et_pb_row][et_pb_ro
 w column_structure="1_2\,1_2" _builder_version="4.27.6" _module_preset="de
 fault" locked="off" global_colors_info="{}"][et_pb_column type="1_2" _buil
 der_version="4.27.6" _module_preset="default" global_colors_info="{}"][et_
 pb_image src="https://chateauneuf.bourgognefranchecomte.eu/wp-content/uplo
 ads/2025/11/bain-des-roses-scaled.jpg" alt="Le bain des Roses" title_text=
 "bain des roses" _builder_version="4.27.6" _module_preset="default" global
 _colors_info="{}"][/et_pb_image][/et_pb_column][et_pb_column type="1_2" _b
 uilder_version="4.27.6" _module_preset="default" global_colors_info="{}"][
 et_pb_image src="https://chateauneuf.bourgognefranchecomte.eu/wp-content/u
 ploads/2025/11/salle-de-bain-des-roses-scaled.jpg" alt="Salle de bain du c
 hâteau" title_text="salle de bain des roses" _builder_version="4.27.6" _m
 odule_preset="default" global_colors_info="{}"][/et_pb_image][/et_pb_colum
 n][/et_pb_row][et_pb_row _builder_version="4.27.6" _module_preset="default
 " locked="off" global_colors_info="{}"][et_pb_column type="4_4" _builder_v
 ersion="4.27.6" _module_preset="default" global_colors_info="{}"][et_pb_te
 xt _builder_version="4.27.6" _module_preset="default" global_colors_info="
 {}"]Imaginés et conçus par notre collègue Fanny Barbe\, tous les décor
 s ont été réalisés avec des matériaux de récupération et des déche
 ts de taille de végétaux dans une démarche vertueuse pour l'environneme
 nt.[/et_pb_text][/et_pb_column][/et_pb_row][et_pb_row column_structure="1_
 2\,1_2" _builder_version="4.27.6" _module_preset="default" locked="off" gl
 obal_colors_info="{}"][et_pb_column type="1_2" _builder_version="4.27.6" _
 module_preset="default" global_colors_info="{}"][et_pb_image src="https://
 chateauneuf.bourgognefranchecomte.eu/wp-content/uploads/2025/11/lapin-rigo
 lo-scaled.jpg" alt="Lapin de Pâques décors de Printemps 2026" title_text
 ="lapin rigolo" _builder_version="4.27.6" _module_preset="default" global_
 colors_info="{}"][/et_pb_image][/et_pb_column][et_pb_column type="1_2" _bu
 ilder_version="4.27.6" _module_preset="default" global_colors_info="{}"][e
 t_pb_image src="https://chateauneuf.bourgognefranchecomte.eu/wp-content/up
 loads/2025/11/oeufs-shadoks-scaled.jpg" alt="Poussins rigolos" title_text=
 "oeufs shadoks" _builder_version="4.27.6" _module_preset="default" global_
 colors_info="{}"][/et_pb_image][/et_pb_column][/et_pb_row][et_pb_row _buil
 der_version="4.27.6" _module_preset="default" locked="off" global_colors_i
 nfo="{}"][et_pb_column type="4_4" _builder_version="4.27.6" _module_preset
 ="default" global_colors_info="{}"][et_pb_text _builder_version="4.27.6" _
 module_preset="default" global_colors_info="{}"]Imaginés et conçus par n
 otre collègue Fanny Barbe\, tous les décors ont été réalisés avec de
 s matériaux de récupération et des déchets de taille de végétaux dan
 s une démarche vertueuse pour l'environnement.[/et_pb_text][/et_pb_column
 ][/et_pb_row][et_pb_row column_structure="1_2\,1_2" _builder_version="4.27
 .6" _module_preset="default" locked="off" global_colors_info="{}"][et_pb_c
 olumn type="1_2" _builder_version="4.27.6" _module_preset="default" global
 _colors_info="{}"][et_pb_image src="https://chateauneuf.bourgognefrancheco
 mte.eu/wp-content/uploads/2025/11/oeuf-de-plumes-scaled.jpg" title_text="o
 euf de plumes" _builder_version="4.27.6" _module_preset="default" global_c
 olors_info="{}"][/et_pb_image][/et_pb_column][et_pb_column type="1_2" _bui
 lder_version="4.27.6" _module_preset="default" global_colors_info="{}"][et
 _pb_image src="https://chateauneuf.bourgognefranchecomte.eu/wp-content/upl
 oads/2025/11/arbre-scaled.jpg" title_text="arbre" _builder_version="4.27.6
 " _module_preset="default" global_colors_info="{}"][/et_pb_image][/et_pb_c
 olumn][/et_pb_row][et_pb_row _builder_version="4.27.6" _module_preset="def
 ault" locked="off" global_colors_info="{}"][et_pb_column type="4_4" _build
 er_version="4.27.6" _module_preset="default" global_colors_info="{}"][et_p
 b_image src="https://chateauneuf.bourgognefranchecomte.eu/wp-content/uploa
 ds/2025/11/2026-decors-paques-pdf.jpg" title_text="2026-décors-pâques" _
 builder_version="4.27.6" _module_preset="default" global_colors_info="{}"]
 [/et_pb_image][/et_pb_column][/et_pb_row][/et_pb_section]
ATTACH;FMTTYPE=image/jpeg:https://chateauneuf.bourgognefranchecomte.eu/wp-
 content/uploads/2025/11/paquerettes-scaled.jpg
END:VEVENT
BEGIN:VTIMEZONE
TZID:Europe/Paris
X-LIC-LOCATION:Europe/Paris
BEGIN:DAYLIGHT
DTSTART:20260329T030000
TZOFFSETFROM:+0100
TZOFFSETTO:+0200
TZNAME:CEST
END:DAYLIGHT
END:VTIMEZONE
END:VCALENDAR