BEGIN:VCALENDAR
VERSION:2.0
PRODID:-//wp-events-plugin.com//7.2.3.1//EN
TZID:Europe/Paris
X-WR-TIMEZONE:Europe/Paris
BEGIN:VEVENT
UID:51@chateauneuf.bourgognefranchecomte.eu
DTSTART;TZID=Europe/Paris;VALUE=DATE:20260104
DTEND;TZID=Europe/Paris;VALUE=DATE:20260504
DTSTAMP:20260423T082406Z
URL:https://chateauneuf.bourgognefranchecomte.eu/events/entree-gratuite-le
 -1er-dimanche-du-mois-2/
SUMMARY:Entrée gratuite le 1er dimanche du mois
DESCRIPTION:Où&nbsp\;:&nbsp\;Château de Châteauneuf\, &nbsp\;Place aux P
 orcs\, 21320 CHÂTEAUNEUF\n\nTarif&nbsp\;:&nbsp\;Gratuit\n\nContact&nbsp\;
 : 03 80 49 21 89\n\nEntrée gratuite au château de 9h45 à 12h30 et de 14
 h00 à 17h30 tous les premiers dimanches du mois\, en basse saison\, d’o
 ctobre à mai.\n\nPlus d’hésitation\, profitez de la gratuité pour ven
 ir découvrir les nouveaux espaces de visite !\n\nLe jardin médiéval vou
 s attend avec ses parterres fleuris et plantes aromatiques et médicinales
 .
ATTACH;FMTTYPE=image/jpeg:https://chateauneuf.bourgognefranchecomte.eu/wp-
 content/uploads/2026/04/Capture-decran-2026-04-22-a-15.59.21.png
END:VEVENT
BEGIN:VTIMEZONE
TZID:Europe/Paris
X-LIC-LOCATION:Europe/Paris
BEGIN:STANDARD
DTSTART:20251026T020000
TZOFFSETFROM:+0200
TZOFFSETTO:+0100
TZNAME:CET
END:STANDARD
BEGIN:DAYLIGHT
DTSTART:20260329T030000
TZOFFSETFROM:+0100
TZOFFSETTO:+0200
TZNAME:CEST
END:DAYLIGHT
END:VTIMEZONE
END:VCALENDAR